BEGIN:VCALENDAR
VERSION:2.0
PRODID:-//人吉球磨ガイド - ECPv5.4.0.2//NONSGML v1.0//EN
CALSCALE:GREGORIAN
METHOD:PUBLISH
X-WR-CALNAME:人吉球磨ガイド
X-ORIGINAL-URL:https://hitoyoshikuma-guide.com
X-WR-CALDESC:人吉球磨ガイド のイベント
BEGIN:VTIMEZONE
TZID:Asia/Tokyo
BEGIN:STANDARD
TZOFFSETFROM:+0900
TZOFFSETTO:+0900
TZNAME:JST
DTSTART:20240101T000000
END:STANDARD
END:VTIMEZONE
BEGIN:VEVENT
DTSTART;TZID=Asia/Tokyo:20240210T090000
DTEND;TZID=Asia/Tokyo:20240212T170000
DTSTAMP:20260421T212947
CREATED:20240130T010149Z
LAST-MODIFIED:20240130T010149Z
UID:47432-1707555600-1707757200@hitoyoshikuma-guide.com
SUMMARY:【球泉洞】バレンタインイベント
DESCRIPTION:３日間限定、バレンタインイベントを開催！ \n  \n入洞いただいた方には、次回ご利用いただける半額割引入洞券と、チョコレートくじをプレゼント🎁 \nくじで当たりがでた方は、１～５等の内一つの景品がもらえるチャンスも✨ \n  \nこのほかにも、カフェ花香房では期間限定で「LOVE’sチョコソフトクリーム」を販売！ \nイベント盛りだくさんの３日間！ぜひ、球泉洞にお越しください💗
URL:https://hitoyoshikuma-guide.com/event_cal/%e3%80%90%e7%90%83%e6%b3%89%e6%b4%9e%e3%80%91%e3%83%90%e3%83%ac%e3%83%b3%e3%82%bf%e3%82%a4%e3%83%b3%e3%82%a4%e3%83%99%e3%83%b3%e3%83%88/
LOCATION:球泉洞
END:VEVENT
END:VCALENDAR