BEGIN:VCALENDAR
VERSION:2.0
PRODID:-//人吉球磨ガイド - ECPv5.4.0.2//NONSGML v1.0//EN
CALSCALE:GREGORIAN
METHOD:PUBLISH
X-WR-CALNAME:人吉球磨ガイド
X-ORIGINAL-URL:https://hitoyoshikuma-guide.com
X-WR-CALDESC:人吉球磨ガイド のイベント
BEGIN:VTIMEZONE
TZID:Asia/Tokyo
BEGIN:STANDARD
TZOFFSETFROM:+0900
TZOFFSETTO:+0900
TZNAME:JST
DTSTART:20220101T000000
END:STANDARD
END:VTIMEZONE
BEGIN:VEVENT
DTSTART;TZID=Asia/Tokyo:20220920T090000
DTEND;TZID=Asia/Tokyo:20220926T160000
DTSTAMP:20260421T230517
CREATED:20190912T041644Z
LAST-MODIFIED:20220831T021243Z
UID:40579-1663664400-1664208000@hitoyoshikuma-guide.com
SUMMARY:「相良三十三観音」秋の開帳
DESCRIPTION:９月２０日（火）～２６日（月）、相良三十三観音が一斉に御開帳されます。 \n  \n彼岸花が咲きはじめ、秋の訪れを感じる今日この頃・・・人吉球磨の秋に「相良三十三観音」は欠かせません。 \n相良三十三観音めぐりは、古くから人吉球磨地方に伝わり、\n平安時代後期に造られた観音様ものもあります。\n全部で３５ある観音堂は、地域の人々の心のよりどころとして信仰を集め、現在も大切に守られています。 \n  \n開帳状況についてはこちらをご覧ください。 \n  \nぜひ、相良三十三観音、めぐってみてはいかがでしょう？？ \n 
URL:https://hitoyoshikuma-guide.com/event_cal/%e3%80%8c%e7%9b%b8%e8%89%af%e4%b8%89%e5%8d%81%e4%b8%89%e8%a6%b3%e9%9f%b3%e3%80%8d%e9%96%8b%e5%b8%b3/
LOCATION:相良三十三観音　各札所
ATTACH;FMTTYPE=image/jpeg:https://hitoyoshikuma-guide.com/wp-content/uploads/2021/09/s-新宮寺-六観音像-e1710719882847.jpg
END:VEVENT
END:VCALENDAR